BEGIN:VCALENDAR
VERSION:2.0
PRODID:-//Cyclovallées du Couserans - ECPv6.15.20//NONSGML v1.0//EN
CALSCALE:GREGORIAN
METHOD:PUBLISH
X-WR-CALNAME:Cyclovallées du Couserans
X-ORIGINAL-URL:https://cyclovallees-du-couserans.org
X-WR-CALDESC:Évènements pour Cyclovallées du Couserans
REFRESH-INTERVAL;VALUE=DURATION:PT1H
X-Robots-Tag:noindex
X-PUBLISHED-TTL:PT1H
BEGIN:VTIMEZONE
TZID:Europe/Paris
BEGIN:DAYLIGHT
TZOFFSETFROM:+0100
TZOFFSETTO:+0200
TZNAME:CEST
DTSTART:20250330T010000
END:DAYLIGHT
BEGIN:STANDARD
TZOFFSETFROM:+0200
TZOFFSETTO:+0100
TZNAME:CET
DTSTART:20251026T010000
END:STANDARD
BEGIN:DAYLIGHT
TZOFFSETFROM:+0100
TZOFFSETTO:+0200
TZNAME:CEST
DTSTART:20260329T010000
END:DAYLIGHT
BEGIN:STANDARD
TZOFFSETFROM:+0200
TZOFFSETTO:+0100
TZNAME:CET
DTSTART:20261025T010000
END:STANDARD
BEGIN:DAYLIGHT
TZOFFSETFROM:+0100
TZOFFSETTO:+0200
TZNAME:CEST
DTSTART:20270328T010000
END:DAYLIGHT
BEGIN:STANDARD
TZOFFSETFROM:+0200
TZOFFSETTO:+0100
TZNAME:CET
DTSTART:20271031T010000
END:STANDARD
END:VTIMEZONE
BEGIN:VEVENT
DTSTART;TZID=Europe/Paris:20260318T160000
DTEND;TZID=Europe/Paris:20260318T190000
DTSTAMP:20260422T014608
CREATED:20260305T095919Z
LAST-MODIFIED:20260305T095919Z
UID:3400-1773849600-1773860400@cyclovallees-du-couserans.org
SUMMARY:Atelier vélo
DESCRIPTION:
URL:https://cyclovallees-du-couserans.org/event/atelier-velo-223/
LOCATION:Atelier du Sain Guidon\, 3 square Balagué\, SAINT-GIRONS\, 09200\, France
CATEGORIES:Actualités,Ateliers
END:VEVENT
BEGIN:VEVENT
DTSTART;TZID=Europe/Paris:20260324T160000
DTEND;TZID=Europe/Paris:20260324T190000
DTSTAMP:20260422T014608
CREATED:20260320T095902Z
LAST-MODIFIED:20260320T095902Z
UID:3425-1774368000-1774378800@cyclovallees-du-couserans.org
SUMMARY:Atelier vélo
DESCRIPTION:
URL:https://cyclovallees-du-couserans.org/event/atelier-velo-224/
LOCATION:Atelier du Sain Guidon\, 3 square Balagué\, SAINT-GIRONS\, 09200\, France
CATEGORIES:Actualités,Ateliers
END:VEVENT
BEGIN:VEVENT
DTSTART;TZID=Europe/Paris:20260325T160000
DTEND;TZID=Europe/Paris:20260325T190000
DTSTAMP:20260422T014608
CREATED:20260320T095942Z
LAST-MODIFIED:20260320T095942Z
UID:3427-1774454400-1774465200@cyclovallees-du-couserans.org
SUMMARY:Atelier vélo
DESCRIPTION:
URL:https://cyclovallees-du-couserans.org/event/atelier-velo-225/
LOCATION:Atelier du Sain Guidon\, 3 square Balagué\, SAINT-GIRONS\, 09200\, France
CATEGORIES:Actualités,Ateliers
END:VEVENT
BEGIN:VEVENT
DTSTART;TZID=Europe/Paris:20260331T160000
DTEND;TZID=Europe/Paris:20260331T190000
DTSTAMP:20260422T014608
CREATED:20260320T100043Z
LAST-MODIFIED:20260320T100043Z
UID:3429-1774972800-1774983600@cyclovallees-du-couserans.org
SUMMARY:Atelier vélo
DESCRIPTION:
URL:https://cyclovallees-du-couserans.org/event/atelier-velo-226/
LOCATION:Atelier du Sain Guidon\, 3 square Balagué\, SAINT-GIRONS\, 09200\, France
CATEGORIES:Actualités,Ateliers
END:VEVENT
BEGIN:VEVENT
DTSTART;TZID=Europe/Paris:20260401T160000
DTEND;TZID=Europe/Paris:20260401T190000
DTSTAMP:20260422T014608
CREATED:20260320T100119Z
LAST-MODIFIED:20260320T100119Z
UID:3431-1775059200-1775070000@cyclovallees-du-couserans.org
SUMMARY:Atelier vélo
DESCRIPTION:
URL:https://cyclovallees-du-couserans.org/event/atelier-velo-227/
LOCATION:Atelier du Sain Guidon\, 3 square Balagué\, SAINT-GIRONS\, 09200\, France
CATEGORIES:Actualités,Ateliers
END:VEVENT
BEGIN:VEVENT
DTSTART;TZID=Europe/Paris:20260407T160000
DTEND;TZID=Europe/Paris:20260407T190000
DTSTAMP:20260422T014608
CREATED:20260330T133105Z
LAST-MODIFIED:20260330T133105Z
UID:3452-1775577600-1775588400@cyclovallees-du-couserans.org
SUMMARY:Atelier vélo
DESCRIPTION:
URL:https://cyclovallees-du-couserans.org/event/atelier-velo-228/
LOCATION:Atelier du Sain Guidon\, 3 square Balagué\, SAINT-GIRONS\, 09200\, France
CATEGORIES:Actualités,Ateliers
END:VEVENT
BEGIN:VEVENT
DTSTART;TZID=Europe/Paris:20260408T160000
DTEND;TZID=Europe/Paris:20260408T190000
DTSTAMP:20260422T014608
CREATED:20260330T133158Z
LAST-MODIFIED:20260330T133158Z
UID:3454-1775664000-1775674800@cyclovallees-du-couserans.org
SUMMARY:Atelier vélo
DESCRIPTION:
URL:https://cyclovallees-du-couserans.org/event/atelier-velo-229/
LOCATION:Atelier du Sain Guidon\, 3 square Balagué\, SAINT-GIRONS\, 09200\, France
CATEGORIES:Actualités,Ateliers
END:VEVENT
BEGIN:VEVENT
DTSTART;TZID=Europe/Paris:20260414T160000
DTEND;TZID=Europe/Paris:20260414T190000
DTSTAMP:20260422T014608
CREATED:20260409T064218Z
LAST-MODIFIED:20260409T064218Z
UID:3474-1776182400-1776193200@cyclovallees-du-couserans.org
SUMMARY:Atelier vélo
DESCRIPTION:
URL:https://cyclovallees-du-couserans.org/event/atelier-velo-230/
LOCATION:Atelier du Sain Guidon\, 3 square Balagué\, SAINT-GIRONS\, 09200\, France
CATEGORIES:Actualités,Ateliers
END:VEVENT
BEGIN:VEVENT
DTSTART;TZID=Europe/Paris:20260415T160000
DTEND;TZID=Europe/Paris:20260415T190000
DTSTAMP:20260422T014608
CREATED:20260409T064304Z
LAST-MODIFIED:20260409T064304Z
UID:3476-1776268800-1776279600@cyclovallees-du-couserans.org
SUMMARY:Atelier vélo
DESCRIPTION:
URL:https://cyclovallees-du-couserans.org/event/atelier-velo-231/
LOCATION:Atelier du Sain Guidon\, 3 square Balagué\, SAINT-GIRONS\, 09200\, France
CATEGORIES:Actualités,Ateliers
END:VEVENT
BEGIN:VEVENT
DTSTART;TZID=Europe/Paris:20260421T160000
DTEND;TZID=Europe/Paris:20260421T190000
DTSTAMP:20260422T014609
CREATED:20260417T093937Z
LAST-MODIFIED:20260417T093937Z
UID:3499-1776787200-1776798000@cyclovallees-du-couserans.org
SUMMARY:Atelier vélo
DESCRIPTION:
URL:https://cyclovallees-du-couserans.org/event/atelier-velo-232/
LOCATION:Atelier du Sain Guidon\, 3 square Balagué\, SAINT-GIRONS\, 09200\, France
CATEGORIES:Actualités,Ateliers
END:VEVENT
BEGIN:VEVENT
DTSTART;TZID=Europe/Paris:20260422T160000
DTEND;TZID=Europe/Paris:20260422T190000
DTSTAMP:20260422T014609
CREATED:20260417T094025Z
LAST-MODIFIED:20260417T094025Z
UID:3501-1776873600-1776884400@cyclovallees-du-couserans.org
SUMMARY:Atelier vélo
DESCRIPTION:
URL:https://cyclovallees-du-couserans.org/event/atelier-velo-233/
LOCATION:Atelier du Sain Guidon\, 3 square Balagué\, SAINT-GIRONS\, 09200\, France
CATEGORIES:Actualités,Ateliers
END:VEVENT
BEGIN:VEVENT
DTSTART;TZID=Europe/Paris:20260428T160000
DTEND;TZID=Europe/Paris:20260428T190000
DTSTAMP:20260422T014609
CREATED:20260417T094122Z
LAST-MODIFIED:20260417T094122Z
UID:3503-1777392000-1777402800@cyclovallees-du-couserans.org
SUMMARY:Atelier vélo
DESCRIPTION:
URL:https://cyclovallees-du-couserans.org/event/atelier-velo-234/
LOCATION:Atelier du Sain Guidon\, 3 square Balagué\, SAINT-GIRONS\, 09200\, France
CATEGORIES:Actualités,Ateliers
END:VEVENT
BEGIN:VEVENT
DTSTART;TZID=Europe/Paris:20260429T160000
DTEND;TZID=Europe/Paris:20260429T190000
DTSTAMP:20260422T014609
CREATED:20260417T094205Z
LAST-MODIFIED:20260417T094205Z
UID:3505-1777478400-1777489200@cyclovallees-du-couserans.org
SUMMARY:Atelier vélo
DESCRIPTION:
URL:https://cyclovallees-du-couserans.org/event/atelier-velo-235/
LOCATION:Atelier du Sain Guidon\, 3 square Balagué\, SAINT-GIRONS\, 09200\, France
CATEGORIES:Actualités,Ateliers
END:VEVENT
END:VCALENDAR